BEGIN:VCALENDAR
VERSION:2.0
CALSCALE:GREGORIAN
BEGIN:VEVENT
SUMMARY:kids canvas and yoga with Shawn
DTSTART;TZID=America/Chicago:20250517T113000
DTEND;TZID=America/Chicago:20250517T123000
LOCATION:Studio
DESCRIPTION: 🎨🧘‍♀️ Kids Canvas &amp;amp; Yoga
Saturday, May 17 | 11:30 AM
Lunch Provided

Join us for a fun-filled morning where creativity meets calm! Kids will enjoy a playful yoga session led by Mama Shawn, followed by a hands-on art project they can take home with pride. This event is designed to spark imagination, encourage movement, and create connection—all in a welcoming, supportive space. Plus, we’ll provide a tasty lunch to fuel all the fun!

Perfect for kids of all ages—no prior yoga or art experience needed!
STATUS:CONFIRMED
SEQUENCE:0
END:VEVENT
END:VCALENDAR