BEGIN:VCALENDAR
VERSION:2.0
CALSCALE:GREGORIAN
BEGIN:VEVENT
SUMMARY:Bols Tibétains - Soins individuels
DTSTART;TZID=Europe/Zurich:20210730T170000
DTEND;TZID=Europe/Zurich:20210730T183000
LOCATION:BeeYoga
DESCRIPTION: av. de Sévelin 6C, Lausanne
STATUS:CONFIRMED
SEQUENCE:0
END:VEVENT
END:VCALENDAR