BEGIN:VCALENDAR
VERSION:2.0
CALSCALE:GREGORIAN
BEGIN:VEVENT
SUMMARY:TCA -   Soins  individuels
DTSTART;TZID=Europe/Zurich:20210930T164500
DTEND;TZID=Europe/Zurich:20210930T181500
LOCATION:BeeYoga
DESCRIPTION: Av. de Sévelin 6C  
Venir avec des habits confortables.
STATUS:CONFIRMED
SEQUENCE:0
END:VEVENT
END:VCALENDAR