BEGIN:VCALENDAR
VERSION:2.0
CALSCALE:GREGORIAN
BEGIN:VEVENT
SUMMARY:Kinderyogakurs 2
DTSTART;TZID=Europe/Berlin:20250527T160000
DTEND;TZID=Europe/Berlin:20250527T163000
LOCATION:Känguruh Familienzentrum Schwabach, Walpersdorferstraße 23
DESCRIPTION: Kinderyoga-Kurs: Spielerisch durch den Sommer! 🌼🦋☀️

Ab dem 29. April starten wir wieder mit einem tollen Kinderyoga-Kurs für kleine Yogis im Alter von 3 bis 5 Jahren.

Gemeinsam tauchen wir in den Sommer ein und entdecken, wie alles um uns herum, wieder bunt und lebendig wird.

🗓 Termine:  5-teilig, dienstags am 29.04., 06.05., 13.05., 20.05., 27.05. 
⏰ Uhrzeit: 16:00 - 16:30 Uhr 
👶 Alter: Kinder von 3 – 5 Jahren
💰 Ausgleich: 40 €

Ein wundervoller Kurs, um Bewegung, Fantasie und Entspannung zu verbinden – perfekt für den Sommer! ☀️

Meldet euch an und erlebt mit uns, wie viel Spaß Yoga für die Kleinsten machen kann. 😊
STATUS:CONFIRMED
SEQUENCE:0
END:VEVENT
END:VCALENDAR