BEGIN:VCALENDAR
VERSION:2.0
CALSCALE:GREGORIAN
BEGIN:VEVENT
SUMMARY:Yin Yoga über Zoom
DTSTART;TZID=Europe/Berlin:20250702T180000
DTEND;TZID=Europe/Berlin:20250702T190000
LOCATION:Känguruh Familienzentrum Schwabach, Walpersdorferstraße 23
DESCRIPTION: Du suchst nach einem Moment der Ruhe in deinem hektischen Alltag?
Wie wäre es mit Yin Yoga?

✨ Warum Yin Yoga?
 Yin Yoga ist eine sanfte, meditative Praxis, bei der wir die Asanas (Haltungen) für mehrere Minuten halten. So wird das tiefer liegende Bindegewebe (Faszien) gedehnt und Verspannungen können sich lösen. Gleichzeitig lädt Yin Yoga dazu ein, den Geist zu beruhigen und das Nervensystem in Balance zu bringen.

Die Vorteile:
🌿Tiefe körperliche Entspannung 
🌿 Stressabbau und mentale Klarheit 
🌿 Förderung der Beweglichkeit und Fasziengesundheit 
🌿 Loslassen auf körperlicher und emotionaler Ebene
STATUS:CONFIRMED
SEQUENCE:0
END:VEVENT
END:VCALENDAR