BEGIN:VCALENDAR
VERSION:2.0
CALSCALE:GREGORIAN
BEGIN:VEVENT
SUMMARY:Herbst-Kinderyogakurs (3 - 5 Jahre)
DTSTART;TZID=Europe/Berlin:20251021T160000
DTEND;TZID=Europe/Berlin:20251021T163000
LOCATION:Känguruh Familienzentrum Schwabach, Walpersdorferstraße 23
DESCRIPTION: 🍂 Kinderyoga-Kurs für Kindergartenkinder: Mit Achtsamkeit durch den Herbst! 🎃🧘‍♂️🍁

Der Herbst ist bunt, bewegt – und voller kleiner Wunder!

In unserem Herbst-Kinderyogakurs für Kinder von 3 bis 5 Jahren erkunden wir mit spielerischen Yogaübungen, kreativen Bewegungsspielen und kleinen Entspannungsreisen diese besondere Jahreszeit.

Gemeinsam entdecken wir, wie sich die Natur verändert, wie Tiere sich vorbereiten und welche Schätze der Herbst für uns bereithält.

Jede Woche wartet ein neues Thema auf uns – z. B. 🍎 Apfelernte, 🎡 Kirchweih-Yoga, 🦔 Tiere machen sich bereit für den Winter oder 🎃 Herbstzauber.

🗓 Kursdetails:
Termine: 5x dienstags – 23.09., 30.09., 07.10., 14.10., 21.10.
Uhrzeit: 16:00 – 16:30 Uhr
Alter: Für Kinder von 3 – 5 Jahren
Ort: Känguruh Familienzentrum, Walpersdorferstraße 23, 91126 Schwabach
Ausgleich: 40 €

In jeder Stunde kombinieren wir Beweglichkeit, Balance und kindgerechte Achtsamkeit – mal mit Fantasiereisen, mal mit Musik und Spielen. Dabei stärken wir das Körpergefühl, das Selbstbewusstsein und die innere Ruhe – auf eine ganz spielerische Art.

🎨 Kreative Elemente wie Malen, kleine Bastelaktionen oder Partnerübungen ergänzen den Kurs – ganz nach dem Motto: Wachse in deinem eigenen Tempo.
STATUS:CONFIRMED
SEQUENCE:0
END:VEVENT
END:VCALENDAR