BEGIN:VCALENDAR
VERSION:2.0
CALSCALE:GREGORIAN
BEGIN:VEVENT
SUMMARY:Kinderyoga (3 - 5 Jahre)
DTSTART;TZID=Europe/Berlin:20251209T160000
DTEND;TZID=Europe/Berlin:20251209T163000
LOCATION:Känguruh Familienzentrum Schwabach, Walpersdorferstraße 23
DESCRIPTION: Im November und Dezember entdecken wir im Kinderyoga die gemütliche Winterzeit:

Wir beschäftigen uns unter anderem mit Licht und Wärme, gehen auf Spurensuche nach Tierspuren im Schnee und treffen kleine Weihnachtswichtel.

Spielerisch bewegen wir uns durch Yogaübungen, machen Bewegungsspiele, entspannen mit Fantasiegeschichten und werden auch kreativ beim Basteln. So erleben die Kinder Achtsamkeit, Freude an Bewegung und die besondere Stimmung der Winterzeit.

Infos zum Kurs:
Wann: 5x dienstags 11.11. / 18.11. / 25.11. / 02.12. / 09.12. 
Uhrzeit: 16:00 – 16:30 Uhr
Alter: Für Kinder von 3 – 5 Jahren + 1 Begleitperson
Ort: Känguruh Familienzentrum, Walpersdorferstraße 23, 91126 Schwabach
Ausgleich: 40 € / Geschwisterkinder: 35 €

🐼 Hinweis zur Anmeldung 🐼
Damit die Gruppen überschaubar bleiben und jedes Kind genügend Raum und Aufmerksamkeit bekommt, bitte ich darum, jedes Kind, das aktiv am Kurs teilnimmt, einzeln anzumelden.
Es reicht also nicht aus, wenn ein Kind gebucht wird und ein Geschwisterkind (im passenden Alter) einfach mitgebracht wird – dafür ist dann bitte ebenfalls eine Anmeldung notwendig.
Kein Problem ist es, wenn kleinere Geschwister (unter ca. 2 Jahren), die noch nicht wirklich mitmachen, einfach mitgebracht werden. 
Vielen Dank für dein Verständnis! 🙂

📸 Einblick gefällig?
Folge uns auf Instagram unter @bemindfulnetkids – dort findest du Videos, Ideen und Eindrücke aus dem Kinderyogaalltag.

Sichert euch jetzt einen Platz!

Ich freue mich auf euch! ☺️
STATUS:CONFIRMED
SEQUENCE:0
END:VEVENT
END:VCALENDAR