BEGIN:VCALENDAR
VERSION:2.0
CALSCALE:GREGORIAN
BEGIN:VEVENT
SUMMARY:Yoga kun for kvinder Gerlev
DTSTART;TZID=Europe/Copenhagen:20251008T173000
DTEND;TZID=Europe/Copenhagen:20251008T184500
LOCATION:Vinbjerggaard, Gerlev
DESCRIPTION: 
STATUS:CONFIRMED
SEQUENCE:0
END:VEVENT
END:VCALENDAR