BEGIN:VCALENDAR
VERSION:2.0
CALSCALE:GREGORIAN
BEGIN:VEVENT
SUMMARY:Strikkecafé
DTSTART;TZID=Europe/Copenhagen:20251106T113000
DTEND;TZID=Europe/Copenhagen:20251106T140000
LOCATION:YogaSund
DESCRIPTION: Vi hygger over en kop kaffe, måske med strikketøj 😉
STATUS:CONFIRMED
SEQUENCE:0
END:VEVENT
END:VCALENDAR