BEGIN:VCALENDAR
VERSION:2.0
CALSCALE:GREGORIAN
BEGIN:VEVENT
SUMMARY:Forårs Senior DanceFit m. Ninna
DTSTART;TZID=Europe/Copenhagen:20260512T101500
DTEND;TZID=Europe/Copenhagen:20260512T114500
LOCATION:YogaSund
DESCRIPTION: 
STATUS:CONFIRMED
SEQUENCE:0
END:VEVENT
END:VCALENDAR