BEGIN:VCALENDAR
VERSION:2.0
CALSCALE:GREGORIAN
BEGIN:VEVENT
SUMMARY:Påske Yinpower Pop-up
DTSTART;TZID=Europe/Copenhagen:20260331T183000
DTEND;TZID=Europe/Copenhagen:20260331T200000
LOCATION:YogaSund
DESCRIPTION: 
STATUS:CONFIRMED
SEQUENCE:0
END:VEVENT
END:VCALENDAR