BEGIN:VCALENDAR
VERSION:2.0
CALSCALE:GREGORIAN
BEGIN:VEVENT
SUMMARY:Massage door Niels
DTSTART;TZID=Europe/Amsterdam:20250301T093000
DTEND;TZID=Europe/Amsterdam:20250301T170000
LOCATION:Praktijk Bewussst
DESCRIPTION: Niels Smit van Body&amp;amp;Mindcoach geeft wekelijks massages bij Bewussst. 

Met meer dan 20 jaar ervaring als masseur heeft Niels zich gespecialiseerd in traumacoaching en holistische massages. In zijn werk combineert hij zijn expertise op het gebied van traumareleasetherapie met verschillende massagevormen. Bij Niels kun je terecht voor verschillende behandelingen, zoals de klassieke ontspanningsmassage, de ontspannende en helende hot-stone massage, de ritmische lomi-lomi massage, en uiteraard zijn traumacoaching.

Mocht je interesse hebben in één van zijn behandelingen, neem dan contact met Niels op voor een een afspraak -info@bodyandmindcoach.nl
STATUS:CONFIRMED
SEQUENCE:0
END:VEVENT
END:VCALENDAR