BEGIN:VCALENDAR
VERSION:2.0
CALSCALE:GREGORIAN
BEGIN:VEVENT
SUMMARY:Self-Practice
DTSTART;TZID=Europe/Amsterdam:20161216T060000
DTEND;TZID=Europe/Amsterdam:20161216T084500
LOCATION:The Shala
DESCRIPTION: To join self-practice, you must be a member of our yoga school (have an ongoing practice at our yoga school) and agree to the self-practice terms with Maxi before your first self-practice. No teacher is present to assist you. 


David is one of Maxi&#039;s teachers, his teaching is really a great inspiration. We asked 
Finish your practice by 8.45 on Friday as the next class is starting soon thereafter.
STATUS:CONFIRMED
SEQUENCE:0
END:VEVENT
END:VCALENDAR