BEGIN:VCALENDAR
VERSION:2.0
CALSCALE:GREGORIAN
BEGIN:VEVENT
SUMMARY:Traditionally counted Led Primary (all join!) *start at 6.30 together
DTSTART;TZID=Europe/Amsterdam:20190201T063000
DTEND;TZID=Europe/Amsterdam:20190201T075500
LOCATION:Bhumi Yoga Shala
DESCRIPTION: For all who practice regularly and practice at least until purvottanasa. As a regular practitioner you may also choose to observe.

If you have to leave earlier due to work -it&#039;s ok - but let me know before practice....
STATUS:CONFIRMED
SEQUENCE:0
END:VEVENT
END:VCALENDAR