BEGIN:VCALENDAR
VERSION:2.0
CALSCALE:GREGORIAN
BEGIN:VEVENT
SUMMARY:Ashtanga Mysore Introduction Month: Workshop
DTSTART;TZID=Europe/Amsterdam:20190615T120000
DTEND;TZID=Europe/Amsterdam:20190615T140000
LOCATION:Bhumi Yoga Shala
DESCRIPTION: FOR WHOM:

We welcome all with a serious interest in yoga, personal growth, all who seek more space, peace and strength in body and mind to this one month course. You need to be able to commit to joining our morning practice at least three times a week, a practice takes about 1h, starting times are flexible (schedule is on website). Showing up is the base of your practice, and transformation. 



No previous yoga experience is required. We are a community of dedicated practitioners of diverse backgrounds, ages and bodies. Everyone is welcome, all fit in, also no fancy clothes are needed. 

Do notice: There are only 5 spaces for this special course. 

IN THIS ONE MONTH YOU:
- Participate in a workshop especially designed for beginners to Ashtanga Mysore (covering yoga philosophy, pranayama, foundations of Mysore posture practice). Date: Saturday 15.06., 12.00-14.00h
- Have unlimitted access to our classes 
-Learn to build your life-supporting yoga practice under one-on-one guidance with Maxi
-Experience the benefits of a regular yoga practice
-Be part of an inspiring and supportive group of practitioners
STATUS:CONFIRMED
SEQUENCE:0
END:VEVENT
END:VCALENDAR