BEGIN:VCALENDAR
VERSION:2.0
CALSCALE:GREGORIAN
BEGIN:VEVENT
SUMMARY:Full Moon: Self-Practice Today
DTSTART;TZID=Europe/Amsterdam:20181222T093000
DTEND;TZID=Europe/Amsterdam:20181222T113000
LOCATION:The Shala
DESCRIPTION: In our yoga tradition we honor the phases of the moon. During Full and New Moon there is no official Mysore practice. Best to take rest these days. You may come for self-practice if you are a member of our yoga school.
STATUS:CONFIRMED
SEQUENCE:0
END:VEVENT
END:VCALENDAR