BEGIN:VCALENDAR
VERSION:2.0
CALSCALE:GREGORIAN
BEGIN:VEVENT
SUMMARY:Self-Practice (08.00-10.00h today - Hilke needs the space after 10.00h)
DTSTART;TZID=Europe/Amsterdam:20190616T080000
DTEND;TZID=Europe/Amsterdam:20190616T100000
LOCATION:The Shala
DESCRIPTION: Self-practice is only accessible for members of our yoga school.
STATUS:CONFIRMED
SEQUENCE:0
END:VEVENT
END:VCALENDAR