BEGIN:VCALENDAR
VERSION:2.0
CALSCALE:GREGORIAN
BEGIN:VEVENT
SUMMARY:Mysore Style Yoga (07.00-09.00h) *Thian teaching
DTSTART;TZID=Europe/Amsterdam:20190923T070000
DTEND;TZID=Europe/Amsterdam:20190923T090000
LOCATION:The Shala
DESCRIPTION: Class is only until 09.00 today, please make sure to arrive by 7.45h the latest.
STATUS:CONFIRMED
SEQUENCE:0
END:VEVENT
END:VCALENDAR