BEGIN:VCALENDAR
VERSION:2.0
CALSCALE:GREGORIAN
BEGIN:VEVENT
SUMMARY:Mysore Style Yoga (07.00-09.00h) *Thian teaching
DTSTART;TZID=Europe/Amsterdam:20191107T070000
DTEND;TZID=Europe/Amsterdam:20191107T090000
LOCATION:The Shala
DESCRIPTION: Doors open at 6.55h. We chant at 07.00, practice ends at 9.00h. Latest start today at 7.45h.

Practicing in the Mysore class, practitioners will benefit from receiving direct one-on-one guidance from the teacher as needed, and will grow in their practice with a gradual step-by-step approach respecting the student&#039;s pace. A class where beginners practice alongside more seasoned practitioners. A setting for community and real self-growth. 

​
STATUS:CONFIRMED
SEQUENCE:0
END:VEVENT
END:VCALENDAR