BEGIN:VCALENDAR
VERSION:2.0
CALSCALE:GREGORIAN
BEGIN:VEVENT
SUMMARY:Full Moon: Self-Practice (06.00-9.00h)
DTSTART;TZID=Europe/Amsterdam:20190121T060000
DTEND;TZID=Europe/Amsterdam:20190121T090000
LOCATION:The Shala
DESCRIPTION: In our yoga tradition we honor the phases of the moon. There is no official class during full and new moon - this is a good time to take rest or sleep in a little. You may come to self-practice...

To join self-practice, you must be a member of our yoga school (have an ongoing practice at our yoga school) and agree to the self-practice terms with Maxi before your first self-practice. No teacher is present to assist you.
STATUS:CONFIRMED
SEQUENCE:0
END:VEVENT
END:VCALENDAR