BEGIN:VCALENDAR
VERSION:2.0
CALSCALE:GREGORIAN
BEGIN:VEVENT
SUMMARY:Weihnachtsfeier
DTSTART;TZID=Europe/Berlin:20221221T183000
DTEND;TZID=Europe/Berlin:20221221T210000
LOCATION:Bianca Yoga
DESCRIPTION: Wir meditieren, singen und essen gemeinsam was.
STATUS:CONFIRMED
SEQUENCE:0
END:VEVENT
END:VCALENDAR