BEGIN:VCALENDAR
VERSION:2.0
CALSCALE:GREGORIAN
BEGIN:VEVENT
SUMMARY:108 Sonnengrüsse
DTSTART;TZID=Europe/Berlin:20230107T150000
DTEND;TZID=Europe/Berlin:20230107T170000
LOCATION:Bianca Yoga
DESCRIPTION: 
STATUS:CONFIRMED
SEQUENCE:0
END:VEVENT
END:VCALENDAR