BEGIN:VCALENDAR
VERSION:2.0
CALSCALE:GREGORIAN
BEGIN:VEVENT
SUMMARY:Yoga in der Natur
DTSTART;TZID=Europe/Vienna:20240826T170000
DTEND;TZID=Europe/Vienna:20240826T180000
LOCATION:
DESCRIPTION: Natur und Yoga
STATUS:CONFIRMED
SEQUENCE:0
END:VEVENT
END:VCALENDAR