BEGIN:VCALENDAR
VERSION:2.0
CALSCALE:GREGORIAN
BEGIN:VEVENT
SUMMARY:Yoga &amp; 13 Wünsche
DTSTART;TZID=Europe/Vienna:20241219T183000
DTEND;TZID=Europe/Vienna:20241219T200000
LOCATION:
DESCRIPTION: Nimm dir die Zeit zum Jahresende. Yoga &amp;amp; 13 Wünsche für deine Rauhnächte!
Findet ab 6 Personen statt.
STATUS:CONFIRMED
SEQUENCE:0
END:VEVENT
END:VCALENDAR