BEGIN:VCALENDAR
VERSION:2.0
CALSCALE:GREGORIAN
BEGIN:VEVENT
SUMMARY:Blooming Flow Yoga Jubileum special**  Vier 1 jaar Bloom Yoga met Kracht en Energie ✨
DTSTART;TZID=Europe/Amsterdam:20250102T190000
DTEND;TZID=Europe/Amsterdam:20250102T200000
LOCATION:Nijvertijd, Zwolseweg 29 Heerde
DESCRIPTION: Speciaal voor het 1-jarig jubileum van Bloom Yoga (est. 02-01-2023) nodigen we je uit voor een energieke vinyasa flow yogales met gemiddelde intensiteit. Deze les is voor onze leden met een rittenkaart of abonnement die houden van een dynamische uitdaging!

In deze les bewegen we vloeiend van houding naar houding, met aandacht voor ademhaling en flow. De focus ligt op het verbeteren van je mobiliteit, stabiliteit en flexibiliteit, terwijl je tegelijkertijd kracht opbouwt. Je zult werken aan uitdagende yogahoudingen die je laten ontdekken waartoe je lichaam in staat is.

Wil je je sterk, vitaal en vol energie voelen? Dan is deze les helemaal voor jou. Sluit je aan en vier samen met ons de kracht en groei die Bloom Yoga brengt – op de mat en daarbuiten. Met dank aan jou!
STATUS:CONFIRMED
SEQUENCE:0
END:VEVENT
END:VCALENDAR