BEGIN:VCALENDAR
VERSION:2.0
CALSCALE:GREGORIAN
BEGIN:VEVENT
SUMMARY:Blooming Yin Yoga Nidra*
DTSTART;TZID=Europe/Amsterdam:20250626T090000
DTEND;TZID=Europe/Amsterdam:20250626T100000
LOCATION:Nijvertijd, Zwolseweg 29 Heerde
DESCRIPTION: 
STATUS:CONFIRMED
SEQUENCE:0
END:VEVENT
END:VCALENDAR