BEGIN:VCALENDAR
VERSION:2.0
CALSCALE:GREGORIAN
BEGIN:VEVENT
SUMMARY:Herstvakantie Vinyasa Flow** Special van Jody
DTSTART;TZID=Europe/Amsterdam:20251022T100000
DTEND;TZID=Europe/Amsterdam:20251022T110000
LOCATION:Nijvertijd, Zwolseweg 29, Bloom Yoga Boetiek Studio bg
DESCRIPTION: 
STATUS:CONFIRMED
SEQUENCE:0
END:VEVENT
END:VCALENDAR