BEGIN:VCALENDAR
VERSION:2.0
CALSCALE:GREGORIAN
BEGIN:VEVENT
SUMMARY:Stretching Redefined (fitness class)
DTSTART;TZID=America/Los_Angeles:20201223T110000
DTEND;TZID=America/Los_Angeles:20201223T120000
LOCATION:271 Blakely Blvd.
DESCRIPTION: This class incorporates a variety of stretches, as we explore and learn more about our movement patterns.  A head to toe health and fitness class, using bands, blocks, and YTU therapy balls.  Open to all levels as we add flexibility into our daily lives.
STATUS:CONFIRMED
SEQUENCE:0
END:VEVENT
END:VCALENDAR