BEGIN:VCALENDAR
VERSION:2.0
CALSCALE:GREGORIAN
BEGIN:VEVENT
SUMMARY:Gentle Monday Hatha in Studio
DTSTART;TZID=America/Los_Angeles:20210614T090000
DTEND;TZID=America/Los_Angeles:20210614T101500
LOCATION:In Studio
DESCRIPTION: A slow moving practice. It brings awareness to the present through movement. We will use the breath and concentrated movements to create space uniquely for you.
STATUS:CONFIRMED
SEQUENCE:0
END:VEVENT
END:VCALENDAR