BEGIN:VCALENDAR
VERSION:2.0
CALSCALE:GREGORIAN
BEGIN:VEVENT
SUMMARY:Gentle Hatha
DTSTART;TZID=America/Los_Angeles:20201217T093000
DTEND;TZID=America/Los_Angeles:20201217T103000
LOCATION:Bodhi Tree Yoga
DESCRIPTION: Students are encouraged to explore the boundaries and limitations of their physical and mental being, while remaining mindful and meditative throughout their practice.
STATUS:CONFIRMED
SEQUENCE:0
END:VEVENT
END:VCALENDAR