BEGIN:VCALENDAR
VERSION:2.0
CALSCALE:GREGORIAN
BEGIN:VEVENT
SUMMARY:A Valentine Special Fun Saturday February 13th
DTSTART;TZID=America/Los_Angeles:20210213T093000
DTEND;TZID=America/Los_Angeles:20210213T104500
LOCATION:Online
DESCRIPTION: Fun Saturday Community Class Celebrating our commitment to the community.....class is free
STATUS:CONFIRMED
SEQUENCE:0
END:VEVENT
END:VCALENDAR