BEGIN:VCALENDAR
VERSION:2.0
CALSCALE:GREGORIAN
BEGIN:VEVENT
SUMMARY:Yin Yoga Gennep 2e Paasdag géén les
DTSTART;TZID=Europe/Amsterdam:20250421T200000
DTEND;TZID=Europe/Amsterdam:20250421T211500
LOCATION:Gennep
DESCRIPTION: Yin yoga is een zachte en statische vorm van yoga, maar ook behoorlijk intens. Het gaat namelijk om zittende of liggende houdingen die je wat langer aanhoudt. Zo heb je meer tijd voor het verkennen en verleggen van je grenzen. Daarnaast is deze vorm goed voor het versterken en versoepelen van bindweefsel en gewrichten.
STATUS:CONFIRMED
SEQUENCE:0
END:VEVENT
END:VCALENDAR