BEGIN:VCALENDAR
VERSION:2.0
CALSCALE:GREGORIAN
BEGIN:VEVENT
SUMMARY:Easy Flow Yoga Gennep
DTSTART;TZID=Europe/Amsterdam:20260421T090000
DTEND;TZID=Europe/Amsterdam:20260421T101500
LOCATION:Gennep
DESCRIPTION: Dit is een rustige yogastijl met gevarieerde houdingen. Door te bewegen op het ritme van de adem blijf je in de flow. Vanwege zijn zachtheid en ontspanning is deze les ideaal voor jou als je fysieke beperkingen ervaart, herstellende bent van een blessure of het na een week hard werken rustig aan wilt doen.
STATUS:CONFIRMED
SEQUENCE:0
END:VEVENT
END:VCALENDAR