BEGIN:VCALENDAR
VERSION:2.0
CALSCALE:GREGORIAN
BEGIN:VEVENT
SUMMARY:Relax &amp; Renew (Restorative) verplaatst naar do 13/11 (omwille van hinder aankomst Sint-Maarten Ieper)
DTSTART;TZID=Europe/Brussels:20251110T183000
DTEND;TZID=Europe/Brussels:20251110T193000
LOCATION:Botanicum
DESCRIPTION: 
STATUS:CONFIRMED
SEQUENCE:0
END:VEVENT
END:VCALENDAR