BEGIN:VCALENDAR
VERSION:2.0
CALSCALE:GREGORIAN
BEGIN:VEVENT
SUMMARY:Gentle Yoga
DTSTART;TZID=Australia/Sydney:20250519T090000
DTEND;TZID=Australia/Sydney:20250519T100000
LOCATION:6 Browallia Place, Port Macquarie
DESCRIPTION: This class offers gentle movements and slow transitions to support ease and deepen the mind-body connection. Release tension, enhance mobility, and explore balance to help sustain freedom in body and mind. The class is complimented with breathwork (pranayama), meditation, and restorative poses. Suitable for all levels—no previous experience required. 

All props are provided. BYO mat, blanket, bolster if you prefer your own.

The class is held at 6 Browallia Place Port Macquarie. You can park in the front carpark or on the street. From the front of the block, you will see a sign that says Dr Stuart Kennedy, walk around to the left of the building, you will find the yoga studio at the back.
STATUS:CONFIRMED
SEQUENCE:0
END:VEVENT
END:VCALENDAR