BEGIN:VCALENDAR
VERSION:2.0
CALSCALE:GREGORIAN
BEGIN:VEVENT
SUMMARY:EXCLUSIF Bain sonore collectif bols tibétains 🪷
DTSTART;TZID=Europe/Paris:20260105T181500
DTEND;TZID=Europe/Paris:20260105T193000
LOCATION:Centre Corps Connect
DESCRIPTION: Un moment pour soi, un instant suspendu au coeur des vibrations ✨
Prévoir 1h sur place et 40min de bain environ
STATUS:CONFIRMED
SEQUENCE:0
END:VEVENT
END:VCALENDAR