BEGIN:VCALENDAR
VERSION:2.0
CALSCALE:GREGORIAN
BEGIN:VEVENT
SUMMARY:Yin yoga live in Almere
DTSTART;TZID=Europe/Amsterdam:20221108T190000
DTEND;TZID=Europe/Amsterdam:20221108T200000
LOCATION:Novemberstraat 50
DESCRIPTION: Spiritueel Bewustzijnscentrum
Novemberstraat 50
1335 GC Almere

Thema: volle maan - Jachtmaan
STATUS:CONFIRMED
SEQUENCE:0
END:VEVENT
END:VCALENDAR