BEGIN:VCALENDAR
VERSION:2.0
CALSCALE:GREGORIAN
BEGIN:VEVENT
SUMMARY:Online Yin yoga
DTSTART;TZID=Europe/Amsterdam:20230110T203000
DTEND;TZID=Europe/Amsterdam:20230110T213000
LOCATION:Online
DESCRIPTION: Verbinding 7-4-1
STATUS:CONFIRMED
SEQUENCE:0
END:VEVENT
END:VCALENDAR