BEGIN:VCALENDAR
VERSION:2.0
CALSCALE:GREGORIAN
BEGIN:VEVENT
SUMMARY:OPEN GUIADA
DTSTART;TZID=Europe/Madrid:20251031T100000
DTEND;TZID=Europe/Madrid:20251031T113000
LOCATION:C/ Nabucco 2, C. Sigfrido, Planta 1, 1
DESCRIPTION: Una clase abierta y dinámica en la que, según el grupo, practicaremos Astanga Primera Serie Guiada o una secuencia de Rocket Guiada. Cada sesión se adapta al nivel y a las necesidades de los alumnos, con todas las variaciones y opciones necesarias para que todos podamos disfrutar y crecer en la práctica.

Un espacio para explorar, profundizar y dejarnos guiar, manteniendo la esencia de cada estilo y la conexión con nuestra energía del momento.
STATUS:CONFIRMED
SEQUENCE:0
END:VEVENT
END:VCALENDAR