BEGIN:VCALENDAR
VERSION:2.0
CALSCALE:GREGORIAN
BEGIN:VEVENT
SUMMARY:Vinyasa - Mixed Level - Pay what you want
DTSTART;TZID=America/New_York:20251227T093000
DTEND;TZID=America/New_York:20251227T103000
LOCATION:12043 Lancaster Street
DESCRIPTION: Class will meet at the studio instead of the Legion on this day.
STATUS:CONFIRMED
SEQUENCE:0
END:VEVENT
END:VCALENDAR