BEGIN:VCALENDAR
VERSION:2.0
CALSCALE:GREGORIAN
BEGIN:VEVENT
SUMMARY:Zachte start - warme yin in de ochtend
DTSTART;TZID=Europe/Amsterdam:20260505T090000
DTEND;TZID=Europe/Amsterdam:20260505T101500
LOCATION:Yogazaal
DESCRIPTION: Een keer een les op dinsdag! Welkom voor 75 minuten vertragen en verstillen.
STATUS:CONFIRMED
SEQUENCE:0
END:VEVENT
END:VCALENDAR