BEGIN:VCALENDAR
VERSION:2.0
CALSCALE:GREGORIAN
BEGIN:VEVENT
SUMMARY:Sanfte Babymassage mit Hebamme Pia Petrovic
DTSTART;TZID=Europe/Berlin:20260512T091500
DTEND;TZID=Europe/Berlin:20260512T103000
LOCATION:Bunte Vögel Yoga Studio, Jakobiweg 1, Aichach
DESCRIPTION: Sanfte Babymassage nach Leboyer

Massieren hat unglaublich viele Vorteile für beide Beteiligten.
Besonders in unserer hektischen Zeit mit vielen Terminen, ist es mir ein großes Anliegen, dass die Verbindung zwischen dir und deinem Baby nicht zu kurz kommt. In einer angenehmen Atmosphäre, darfst du über die Massagegriffe in Kontakt mit deinem Kind kommen. Beobachten, spüren was es braucht, dich verbinden und eure Exklusivzeit genießen. 

Du erlernst Massagetechniken, die du dann zu Hause regelmäßig anwenden kannst. Am Ende des Kurses gibt es die Möglichkeit zum Austausch bei einer Tasse Tee und Raum für Fragen an mich als Hebamme.
Der Kurs ist geeignet für Kinder ab 8 Wochen bis 18 Monate. Wichtig wäre, dass es dein Kind bereits zulässt auch einmal auf der Matte zu liegen.
In der Kursgebühr enthalten sind: 
- Erlernen aller Massagegriffe nach Leboyer
- Kurze Infos zum Abhalten
- Ein Ausführliches Skript
- Verschiedenste Bioöle
- Eine kleine Gruppe mit maximal 8 Kindern
- Die Möglichkeit Fragen an mich als Fachkraft zu stellen
- Der Austausch mit anderen bei einer Tasse Tee
- Gemeinsamer Abschluss mit Musik

Bitte mitbringen:
- Ein großes Handtuch
- Eine Wasserdichte Windelfreiunterlage
- Ein Töpfchen wenn vorhanden
- Eigenes Öl falls gewünscht
- Bequeme und vor allem luftige Kleidung für die Mama,
   Zwiebelprinzip für das Baby, Wechselkleidung für beide
- 38€ in bar

Ich freue mich auf einen schönen Kurs mit euch!!
Wenn du finanziell gerade nicht in der Lage bist, dir den Kurs zu gönnen – sprich mich bitte an.
Hebamme Pia Petrovic

Technischer Hinweis: Der Kurs wird von Hebamme Pia Petrovic gestaltet, auch wenn &quot;Isabella&quot; als Lehrerin oben drin steht. 

Die Anmeldung ist verbindlich. Nach Anmeldung wird die volle Kursgebühr in Rechnung gestellt.

Kurstermine: 12.05. und 19.05.25 jeweils 09:00 - 10:15 Uhr
STATUS:CONFIRMED
SEQUENCE:0
END:VEVENT
END:VCALENDAR