BEGIN:VCALENDAR
VERSION:2.0
CALSCALE:GREGORIAN
BEGIN:VEVENT
SUMMARY:Body &amp; Mind Flow
DTSTART;TZID=Europe/Brussels:20251020T193000
DTEND;TZID=Europe/Brussels:20251020T203000
LOCATION:Chaussée d&#039;Alsemberg, 894 1420 Braine-l&#039;Alleud
DESCRIPTION: Le Body and Mind flow se présente comme la signature du studio. 
Ce cours se caractérise par des séquences de mouvements fluides et synchronisés intégrant la respiration pour créer une pratique dynamique et énergisante. 

&quot;Lier votre corps et votre esprit pour ne former qu&#039;une seule entité&quot;

Adapté à tous les niveaux.
STATUS:CONFIRMED
SEQUENCE:0
END:VEVENT
END:VCALENDAR