BEGIN:VCALENDAR
VERSION:2.0
CALSCALE:GREGORIAN
BEGIN:VEVENT
SUMMARY:Hatha Yoga
DTSTART;TZID=Europe/Brussels:20251029T193000
DTEND;TZID=Europe/Brussels:20251029T203000
LOCATION:Chaussée d&#039;Alsemberg, 894 1420 Braine-l&#039;Alleud
DESCRIPTION: Le Hatha Yoga est une forme traditionnelle de yoga dont l’objectif est d’harmoniser le corps et l’esprit par la combinaison de techniques de respiration (pranayama) et de postures physiques (asanas). 
Cette discipline développe la force, la souplesse et l’équilibre. En cultivant une meilleure conscience de soi, le Hatha Yoga prépare le corps et l’esprit à la méditation, offrant une pratique à la fois physique et apaisante. 

Adapté à tous les niveaux.
STATUS:CONFIRMED
SEQUENCE:0
END:VEVENT
END:VCALENDAR