BEGIN:VCALENDAR
VERSION:2.0
CALSCALE:GREGORIAN
BEGIN:VEVENT
SUMMARY:Pilates Flow
DTSTART;TZID=Europe/Brussels:20250828T193000
DTEND;TZID=Europe/Brussels:20250828T203000
LOCATION:Chaussée d&#039;Alsemberg, 894 1420 Braine-l&#039;Alleud
DESCRIPTION: Le Pilates flow est un cours fluide et rythmé, conçu pour renforcer votre corps, améliorer votre souplesse et booster votre énergie. Chaque mouvement s’enchaîne avec fluidité dans une ambiance motivante. Et ce n’est pas tout : ce cours vous aide à développer coordination, endurance et contrôle, tout en vous offrant une parenthèse d’énergie positive. 

Adapté à tous les niveaux.
STATUS:CONFIRMED
SEQUENCE:0
END:VEVENT
END:VCALENDAR