BEGIN:VCALENDAR
VERSION:2.0
CALSCALE:GREGORIAN
BEGIN:VEVENT
SUMMARY:Abs &amp; Booty Pilates
DTSTART;TZID=Europe/Brussels:20260101T193000
DTEND;TZID=Europe/Brussels:20260101T202000
LOCATION:Chaussée d&#039;Alsemberg, 894 1420 Braine-l&#039;Alleud
DESCRIPTION: Abs &amp; Booty Pilates est un cours ciblé qui tonifie la sangle abdominale et sculpte les fessiers grâce à des enchaînements inspirés du Pilates. Avec l’aide d’accessoires comme des poids, ballons ou élastiques, il renforce en profondeur tout en améliorant la posture et la stabilité.
STATUS:CONFIRMED
SEQUENCE:0
END:VEVENT
END:VCALENDAR