BEGIN:VCALENDAR
VERSION:2.0
CALSCALE:GREGORIAN
BEGIN:VEVENT
SUMMARY:Yoga Débutant
DTSTART;TZID=Europe/Brussels:20251103T183000
DTEND;TZID=Europe/Brussels:20251103T192000
LOCATION:Chaussée d&#039;Alsemberg, 894 1420 Braine-l&#039;Alleud
DESCRIPTION: Ce cours est conçu pour les personnes qui n’ont jamais pratiqué le yoga ou qui souhaitent revenir aux bases. À travers des postures accessibles et des exercices de respiration simples, vous apprendrez à connecter votre corps et votre esprit dans un cadre apaisant et bienveillant. Aucun niveau préalable n’est nécessaire, ce cours est parfait pour découvrir les fondements du Yoga et commencer à construire une pratique en toute sécurité. Vous y apprendrez à améliorer votre flexibilité, votre posture, et à trouver un moment de calme dans votre quotidien.
STATUS:CONFIRMED
SEQUENCE:0
END:VEVENT
END:VCALENDAR