BEGIN:VCALENDAR
VERSION:2.0
CALSCALE:GREGORIAN
BEGIN:VEVENT
SUMMARY:Yogalates
DTSTART;TZID=Europe/Brussels:20251031T180000
DTEND;TZID=Europe/Brussels:20251031T185000
LOCATION:Chaussée d&#039;Alsemberg, 894 1420 Braine-l&#039;Alleud
DESCRIPTION: Le Yogalates est une pratique qui fusionne la douceur et la fluidité du Yoga avec la précision et le renforcement du Pilates. Ce cours travaille en profondeur la sangle abdominale, le dos et les muscles posturaux, tout en améliorant la souplesse, l’équilibre et la coordination.
STATUS:CONFIRMED
SEQUENCE:0
END:VEVENT
END:VCALENDAR