BEGIN:VCALENDAR
VERSION:2.0
CALSCALE:GREGORIAN
BEGIN:VEVENT
SUMMARY:Morning Yoga Flow
DTSTART;TZID=Europe/Brussels:20251224T101500
DTEND;TZID=Europe/Brussels:20251224T111500
LOCATION:Chaussée d&#039;Alsemberg, 894 1420 Braine-l&#039;Alleud
DESCRIPTION: Le Morning Yoga Flow est une routine douce et dynamique qui aide à réveiller progressivement le corps et l’esprit. À travers des mouvements fluides, des étirements et une respiration profonde, il dénoue les tensions accumulées pendant la nuit, stimule la circulation et apporte une sensation d’énergie calme. En quelques minutes, il prépare le corps à bouger avec aisance et installe un état d’esprit clair et positif pour démarrer la journée.
STATUS:CONFIRMED
SEQUENCE:0
END:VEVENT
END:VCALENDAR