BEGIN:VCALENDAR
VERSION:2.0
CALSCALE:GREGORIAN
BEGIN:VEVENT
SUMMARY:IOGA SÈNIOR
DTSTART;TZID=Europe/Vienna:20220802T083000
DTEND;TZID=Europe/Vienna:20220802T094500
LOCATION:Calma ioga Shala
DESCRIPTION: 
STATUS:CONFIRMED
SEQUENCE:0
END:VEVENT
END:VCALENDAR